BEGIN:VCALENDAR
VERSION:2.0
PRODID:-//Repki - ECPv6.7.0//NONSGML v1.0//EN
CALSCALE:GREGORIAN
METHOD:PUBLISH
X-WR-CALNAME:Repki
X-ORIGINAL-URL:https://repki.si
X-WR-CALDESC:Events for Repki
REFRESH-INTERVAL;VALUE=DURATION:PT1H
X-Robots-Tag:noindex
X-PUBLISHED-TTL:PT1H
BEGIN:VTIMEZONE
TZID:UTC
BEGIN:STANDARD
TZOFFSETFROM:+0000
TZOFFSETTO:+0000
TZNAME:UTC
DTSTART:20260101T000000
END:STANDARD
END:VTIMEZONE
BEGIN:VEVENT
DTSTART;TZID=UTC:20260217T080000
DTEND;TZID=UTC:20260217T170000
DTSTAMP:20260421T161234
CREATED:20260116T095107Z
LAST-MODIFIED:20260116T100645Z
UID:10000006-1771315200-1771347600@repki.si
SUMMARY:17.2. Pustni Torek - Nova Gorica
DESCRIPTION:Več info kmalu
URL:https://repki.si/event/17-2-pustni-torek-nova-gorica/
END:VEVENT
END:VCALENDAR