BEGIN:VCALENDAR
VERSION:2.0
PRODID:-//Repki - ECPv6.7.0//NONSGML v1.0//EN
CALSCALE:GREGORIAN
METHOD:PUBLISH
X-WR-CALNAME:Repki
X-ORIGINAL-URL:https://repki.si
X-WR-CALDESC:Events for Repki
REFRESH-INTERVAL;VALUE=DURATION:PT1H
X-Robots-Tag:noindex
X-PUBLISHED-TTL:PT1H
BEGIN:VTIMEZONE
TZID:UTC
BEGIN:STANDARD
TZOFFSETFROM:+0000
TZOFFSETTO:+0000
TZNAME:UTC
DTSTART:20260101T000000
END:STANDARD
END:VTIMEZONE
BEGIN:VEVENT
DTSTART;TZID=UTC:20260516T080000
DTEND;TZID=UTC:20260516T170000
DTSTAMP:20260421T095620
CREATED:20260116T100445Z
LAST-MODIFIED:20260116T100604Z
UID:10000007-1778918400-1778950800@repki.si
SUMMARY:16.5 Malčkov Tek - Ravne na Koroškem
DESCRIPTION:Več info kmalu
URL:https://repki.si/event/16-5-malckov-tek-ravne-na-koroskem/
END:VEVENT
END:VCALENDAR